BEGIN:VCALENDAR
VERSION:2.0
PRODID:-//Holy Rosary Catholic School - ECPv6.15.20//NONSGML v1.0//EN
CALSCALE:GREGORIAN
METHOD:PUBLISH
X-ORIGINAL-URL:https://holyrosaryclinton.com
X-WR-CALDESC:Events for Holy Rosary Catholic School
REFRESH-INTERVAL;VALUE=DURATION:PT1H
X-Robots-Tag:noindex
X-PUBLISHED-TTL:PT1H
BEGIN:VTIMEZONE
TZID:UTC
BEGIN:STANDARD
TZOFFSETFROM:+0000
TZOFFSETTO:+0000
TZNAME:UTC
DTSTART:20220101T000000
END:STANDARD
END:VTIMEZONE
BEGIN:VEVENT
DTSTART;VALUE=DATE:20230518
DTEND;VALUE=DATE:20230519
DTSTAMP:20260425T142427
CREATED:20230428T143051Z
LAST-MODIFIED:20230503T161009Z
UID:10000001-1684368000-1684454399@holyrosaryclinton.com
SUMMARY:End of Quarter
DESCRIPTION:Last day for students. Early dismissal-12:30
URL:https://holyrosaryclinton.com/event/end-of-quarter/
ATTACH;FMTTYPE=image/png:https://holyrosaryclinton.com/wp-content/uploads/2023/05/pexels-pixabay-33044.png
END:VEVENT
END:VCALENDAR