BEGIN:VCALENDAR
VERSION:2.0
PRODID:-//Holy Rosary Catholic School - ECPv6.15.20//NONSGML v1.0//EN
CALSCALE:GREGORIAN
METHOD:PUBLISH
X-ORIGINAL-URL:https://holyrosaryclinton.com
X-WR-CALDESC:Events for Holy Rosary Catholic School
REFRESH-INTERVAL;VALUE=DURATION:PT1H
X-Robots-Tag:noindex
X-PUBLISHED-TTL:PT1H
BEGIN:VTIMEZONE
TZID:UTC
BEGIN:STANDARD
TZOFFSETFROM:+0000
TZOFFSETTO:+0000
TZNAME:UTC
DTSTART:20230101T000000
END:STANDARD
END:VTIMEZONE
BEGIN:VEVENT
DTSTART;VALUE=DATE:20240401
DTEND;VALUE=DATE:20240402
DTSTAMP:20260424T225537
CREATED:20230522T173907Z
LAST-MODIFIED:20230602T164310Z
UID:10000036-1711929600-1712015999@holyrosaryclinton.com
SUMMARY:Easter Monday- No School
DESCRIPTION:
URL:https://holyrosaryclinton.com/event/easter-monday-no-school/
ATTACH;FMTTYPE=image/jpeg:https://holyrosaryclinton.com/wp-content/uploads/2023/05/AdobeStock_326764509-scaled.jpeg
END:VEVENT
BEGIN:VEVENT
DTSTART;VALUE=DATE:20240417
DTEND;VALUE=DATE:20240418
DTSTAMP:20260424T225537
CREATED:20230522T173932Z
LAST-MODIFIED:20230602T164441Z
UID:10000037-1713312000-1713398399@holyrosaryclinton.com
SUMMARY:Midterm
DESCRIPTION:
URL:https://holyrosaryclinton.com/event/midterm-4/
ATTACH;FMTTYPE=image/jpeg:https://holyrosaryclinton.com/wp-content/uploads/2023/04/slider-2.jpg
END:VEVENT
BEGIN:VEVENT
DTSTART;VALUE=DATE:20240419
DTEND;VALUE=DATE:20240420
DTSTAMP:20260424T225537
CREATED:20230522T174001Z
LAST-MODIFIED:20230602T164530Z
UID:10000038-1713484800-1713571199@holyrosaryclinton.com
SUMMARY:Half Day
DESCRIPTION:
URL:https://holyrosaryclinton.com/event/half-day-2/
ATTACH;FMTTYPE=image/jpeg:https://holyrosaryclinton.com/wp-content/uploads/2023/05/145774063-3686948388025901-5000722733706756637-n-1.jpg
END:VEVENT
END:VCALENDAR