BEGIN:VCALENDAR
VERSION:2.0
PRODID:-//Holy Rosary Catholic School - ECPv6.15.20//NONSGML v1.0//EN
CALSCALE:GREGORIAN
METHOD:PUBLISH
X-ORIGINAL-URL:https://holyrosaryclinton.com
X-WR-CALDESC:Events for Holy Rosary Catholic School
REFRESH-INTERVAL;VALUE=DURATION:PT1H
X-Robots-Tag:noindex
X-PUBLISHED-TTL:PT1H
BEGIN:VTIMEZONE
TZID:UTC
BEGIN:STANDARD
TZOFFSETFROM:+0000
TZOFFSETTO:+0000
TZNAME:UTC
DTSTART:20230101T000000
END:STANDARD
END:VTIMEZONE
BEGIN:VEVENT
DTSTART;VALUE=DATE:20240517
DTEND;VALUE=DATE:20240518
DTSTAMP:20260424T213609
CREATED:20230522T174133Z
LAST-MODIFIED:20230601T154636Z
UID:10000039-1715904000-1715990399@holyrosaryclinton.com
SUMMARY:End of 4th Quarter
DESCRIPTION:Last Day of School for Students. Dismiss at 12:30
URL:https://holyrosaryclinton.com/event/last-day-of-school-for-students/
ATTACH;FMTTYPE=image/png:https://holyrosaryclinton.com/wp-content/uploads/2023/05/pexels-pixabay-33044.png
END:VEVENT
BEGIN:VEVENT
DTSTART;VALUE=DATE:20240517
DTEND;VALUE=DATE:20240518
DTSTAMP:20260424T213609
CREATED:20230522T174250Z
LAST-MODIFIED:20240503T013808Z
UID:10000041-1715904000-1715990399@holyrosaryclinton.com
SUMMARY:24 Staff Workdays
DESCRIPTION:
URL:https://holyrosaryclinton.com/event/24-staff-workdays/
ATTACH;FMTTYPE=image/jpeg:https://holyrosaryclinton.com/wp-content/uploads/2023/05/Teachers1.jpeg
END:VEVENT
BEGIN:VEVENT
DTSTART;VALUE=DATE:20240527
DTEND;VALUE=DATE:20240528
DTSTAMP:20260424T213609
CREATED:20230522T174323Z
LAST-MODIFIED:20230602T164643Z
UID:10000042-1716768000-1716854399@holyrosaryclinton.com
SUMMARY:Memorial Day
DESCRIPTION:
URL:https://holyrosaryclinton.com/event/memorial-day/
ATTACH;FMTTYPE=image/jpeg:https://holyrosaryclinton.com/wp-content/uploads/2023/05/pexels-brett-sayles-1069000-scaled.jpg
END:VEVENT
END:VCALENDAR