BEGIN:VCALENDAR
VERSION:2.0
PRODID:-//Holy Rosary Catholic School - ECPv6.15.20//NONSGML v1.0//EN
CALSCALE:GREGORIAN
METHOD:PUBLISH
X-WR-CALNAME:Holy Rosary Catholic School
X-ORIGINAL-URL:https://holyrosaryclinton.com
X-WR-CALDESC:Events for Holy Rosary Catholic School
REFRESH-INTERVAL;VALUE=DURATION:PT1H
X-Robots-Tag:noindex
X-PUBLISHED-TTL:PT1H
BEGIN:VTIMEZONE
TZID:UTC
BEGIN:STANDARD
TZOFFSETFROM:+0000
TZOFFSETTO:+0000
TZNAME:UTC
DTSTART:20230101T000000
END:STANDARD
END:VTIMEZONE
BEGIN:VEVENT
DTSTART;VALUE=DATE:20241011
DTEND;VALUE=DATE:20241012
DTSTAMP:20260424T152616
CREATED:20240603T135409Z
LAST-MODIFIED:20240603T135409Z
UID:10000059-1728604800-1728691199@holyrosaryclinton.com
SUMMARY:End of 1st Quarter
DESCRIPTION:
URL:https://holyrosaryclinton.com/event/end-of-1st-quarter/
ATTACH;FMTTYPE=image/jpeg:https://holyrosaryclinton.com/wp-content/uploads/2023/05/pexels-oleksandr-pidvalnyi-2781814-scaled.jpg
END:VEVENT
BEGIN:VEVENT
DTSTART;VALUE=DATE:20241014
DTEND;VALUE=DATE:20241015
DTSTAMP:20260424T152616
CREATED:20240603T135903Z
LAST-MODIFIED:20240603T135903Z
UID:10000060-1728864000-1728950399@holyrosaryclinton.com
SUMMARY:2nd Quarter Begins
DESCRIPTION:
URL:https://holyrosaryclinton.com/event/2nd-quarter-begins-2/
ATTACH;FMTTYPE=image/jpeg:https://holyrosaryclinton.com/wp-content/uploads/2023/05/328869662_2019541318257139_3068270143770275268_n.jpg
END:VEVENT
BEGIN:VEVENT
DTSTART;VALUE=DATE:20241015
DTEND;VALUE=DATE:20241016
DTSTAMP:20260424T152616
CREATED:20240603T140109Z
LAST-MODIFIED:20240603T140124Z
UID:10000061-1728950400-1729036799@holyrosaryclinton.com
SUMMARY:School Pictures
DESCRIPTION:
URL:https://holyrosaryclinton.com/event/school-pictures/
ATTACH;FMTTYPE=image/jpeg:https://holyrosaryclinton.com/wp-content/uploads/2023/07/pexels-demeter-attila-60838-scaled.jpg
END:VEVENT
BEGIN:VEVENT
DTSTART;VALUE=DATE:20241017
DTEND;VALUE=DATE:20241018
DTSTAMP:20260424T152616
CREATED:20240603T140248Z
LAST-MODIFIED:20240603T140248Z
UID:10000062-1729123200-1729209599@holyrosaryclinton.com
SUMMARY:P/T Conferences
DESCRIPTION:No school
URL:https://holyrosaryclinton.com/event/p-t-conferences-3/
ATTACH;FMTTYPE=image/jpeg:https://holyrosaryclinton.com/wp-content/uploads/2023/05/SP4.jpeg
END:VEVENT
BEGIN:VEVENT
DTSTART;VALUE=DATE:20241018
DTEND;VALUE=DATE:20241019
DTSTAMP:20260424T152616
CREATED:20240603T140321Z
LAST-MODIFIED:20240603T140321Z
UID:10000063-1729209600-1729295999@holyrosaryclinton.com
SUMMARY:No School
DESCRIPTION:
URL:https://holyrosaryclinton.com/event/no-school-3/
ATTACH;FMTTYPE=image/jpeg:https://holyrosaryclinton.com/wp-content/uploads/2023/05/119590637-3301804783206932-4803838735143272533-o.jpg
END:VEVENT
END:VCALENDAR