BEGIN:VCALENDAR
VERSION:2.0
PRODID:-//Holy Rosary Catholic School - ECPv6.15.20//NONSGML v1.0//EN
CALSCALE:GREGORIAN
METHOD:PUBLISH
X-WR-CALNAME:Holy Rosary Catholic School
X-ORIGINAL-URL:https://holyrosaryclinton.com
X-WR-CALDESC:Events for Holy Rosary Catholic School
REFRESH-INTERVAL;VALUE=DURATION:PT1H
X-Robots-Tag:noindex
X-PUBLISHED-TTL:PT1H
BEGIN:VTIMEZONE
TZID:UTC
BEGIN:STANDARD
TZOFFSETFROM:+0000
TZOFFSETTO:+0000
TZNAME:UTC
DTSTART:20230101T000000
END:STANDARD
END:VTIMEZONE
BEGIN:VEVENT
DTSTART;VALUE=DATE:20241101
DTEND;VALUE=DATE:20241102
DTSTAMP:20260424T140442
CREATED:20240603T140426Z
LAST-MODIFIED:20240603T140446Z
UID:10000064-1730419200-1730505599@holyrosaryclinton.com
SUMMARY:No School
DESCRIPTION:
URL:https://holyrosaryclinton.com/event/no-school-4/
ATTACH;FMTTYPE=image/jpeg:https://holyrosaryclinton.com/wp-content/uploads/2023/05/119590637-3301804783206932-4803838735143272533-o.jpg
END:VEVENT
BEGIN:VEVENT
DTSTART;VALUE=DATE:20241104
DTEND;VALUE=DATE:20241105
DTSTAMP:20260424T140442
CREATED:20240603T140559Z
LAST-MODIFIED:20240603T140629Z
UID:10000065-1730678400-1730764799@holyrosaryclinton.com
SUMMARY:PD
DESCRIPTION:No school
URL:https://holyrosaryclinton.com/event/pd/
ATTACH;FMTTYPE=image/jpeg:https://holyrosaryclinton.com/wp-content/uploads/2023/05/155174360-3747264941994245-6280261016938248117-n.jpg
END:VEVENT
BEGIN:VEVENT
DTSTART;VALUE=DATE:20241115
DTEND;VALUE=DATE:20241116
DTSTAMP:20260424T140442
CREATED:20240603T140742Z
LAST-MODIFIED:20240603T140742Z
UID:10000066-1731628800-1731715199@holyrosaryclinton.com
SUMMARY:2nd Quarter Midterm
DESCRIPTION:
URL:https://holyrosaryclinton.com/event/2nd-quarter-midterm/
ATTACH;FMTTYPE=image/jpeg:https://holyrosaryclinton.com/wp-content/uploads/2023/05/152552094-3720770284643711-2345713331220887504-o.jpeg
END:VEVENT
BEGIN:VEVENT
DTSTART;VALUE=DATE:20241125
DTEND;VALUE=DATE:20241130
DTSTAMP:20260424T140442
CREATED:20240603T140901Z
LAST-MODIFIED:20240603T140922Z
UID:10000067-1732492800-1732924799@holyrosaryclinton.com
SUMMARY:Thanksgiving Break
DESCRIPTION:No school
URL:https://holyrosaryclinton.com/event/thanksgiving-break/
ATTACH;FMTTYPE=image/jpeg:https://holyrosaryclinton.com/wp-content/uploads/2023/05/pexels-magda-ehlers-1300339-scaled.jpg
END:VEVENT
END:VCALENDAR