BEGIN:VCALENDAR
VERSION:2.0
PRODID:-//Holy Rosary Catholic School - ECPv6.15.20//NONSGML v1.0//EN
CALSCALE:GREGORIAN
METHOD:PUBLISH
X-WR-CALNAME:Holy Rosary Catholic School
X-ORIGINAL-URL:https://holyrosaryclinton.com
X-WR-CALDESC:Events for Holy Rosary Catholic School
REFRESH-INTERVAL;VALUE=DURATION:PT1H
X-Robots-Tag:noindex
X-PUBLISHED-TTL:PT1H
BEGIN:VTIMEZONE
TZID:UTC
BEGIN:STANDARD
TZOFFSETFROM:+0000
TZOFFSETTO:+0000
TZNAME:UTC
DTSTART:20230101T000000
END:STANDARD
END:VTIMEZONE
BEGIN:VEVENT
DTSTART;VALUE=DATE:20241223
DTEND;VALUE=DATE:20250104
DTSTAMP:20260424T110519
CREATED:20240603T142551Z
LAST-MODIFIED:20240603T142829Z
UID:10000070-1734912000-1735948799@holyrosaryclinton.com
SUMMARY:Christmas Break
DESCRIPTION:No School
URL:https://holyrosaryclinton.com/event/christmas-break/
ATTACH;FMTTYPE=image/jpeg:https://holyrosaryclinton.com/wp-content/uploads/2023/05/pexels-burkay-canatar-4346649-scaled.jpg
END:VEVENT
BEGIN:VEVENT
DTSTART;VALUE=DATE:20250101
DTEND;VALUE=DATE:20250102
DTSTAMP:20260424T110519
CREATED:20240603T142721Z
LAST-MODIFIED:20240603T142721Z
UID:10000071-1735689600-1735775999@holyrosaryclinton.com
SUMMARY:New Year's Day
DESCRIPTION:No School
URL:https://holyrosaryclinton.com/event/new-years-day/
ATTACH;FMTTYPE=image/jpeg:https://holyrosaryclinton.com/wp-content/uploads/2023/05/pexels-olia-danilevich-6149104-scaled.jpg
END:VEVENT
BEGIN:VEVENT
DTSTART;VALUE=DATE:20250106
DTEND;VALUE=DATE:20250107
DTSTAMP:20260424T110519
CREATED:20240603T143051Z
LAST-MODIFIED:20240603T143101Z
UID:10000072-1736121600-1736207999@holyrosaryclinton.com
SUMMARY:Staff Workday
DESCRIPTION:No School
URL:https://holyrosaryclinton.com/event/staff-workday/
ATTACH;FMTTYPE=image/jpeg:https://holyrosaryclinton.com/wp-content/uploads/2023/05/155174360-3747264941994245-6280261016938248117-n.jpg
END:VEVENT
BEGIN:VEVENT
DTSTART;VALUE=DATE:20250107
DTEND;VALUE=DATE:20250108
DTSTAMP:20260424T110519
CREATED:20240603T143152Z
LAST-MODIFIED:20240612T133401Z
UID:10000073-1736208000-1736294399@holyrosaryclinton.com
SUMMARY:Local PD
DESCRIPTION:No School
URL:https://holyrosaryclinton.com/event/local-pd-3/
ATTACH;FMTTYPE=image/jpeg:https://holyrosaryclinton.com/wp-content/uploads/2024/02/IMG_0416-scaled.jpg
END:VEVENT
BEGIN:VEVENT
DTSTART;VALUE=DATE:20250108
DTEND;VALUE=DATE:20250109
DTSTAMP:20260424T110519
CREATED:20240603T143251Z
LAST-MODIFIED:20240603T143258Z
UID:10000074-1736294400-1736380799@holyrosaryclinton.com
SUMMARY:3rd Quarter Begins
DESCRIPTION:Welcome back students!
URL:https://holyrosaryclinton.com/event/3rd-quarter-begins-2/
ATTACH;FMTTYPE=image/jpeg:https://holyrosaryclinton.com/wp-content/uploads/2023/05/340086546_180678981467523_3095218956945383592_n.jpg
END:VEVENT
BEGIN:VEVENT
DTSTART;VALUE=DATE:20250120
DTEND;VALUE=DATE:20250121
DTSTAMP:20260424T110519
CREATED:20240603T143359Z
LAST-MODIFIED:20240603T143359Z
UID:10000075-1737331200-1737417599@holyrosaryclinton.com
SUMMARY:MLK Day
DESCRIPTION:No School
URL:https://holyrosaryclinton.com/event/mlk-day/
ATTACH;FMTTYPE=image/jpeg:https://holyrosaryclinton.com/wp-content/uploads/2023/05/AdobeStock_398381757-scaled.jpeg
END:VEVENT
END:VCALENDAR