BEGIN:VCALENDAR
VERSION:2.0
PRODID:-//Holy Rosary Catholic School - ECPv6.15.20//NONSGML v1.0//EN
CALSCALE:GREGORIAN
METHOD:PUBLISH
X-ORIGINAL-URL:https://holyrosaryclinton.com
X-WR-CALDESC:Events for Holy Rosary Catholic School
REFRESH-INTERVAL;VALUE=DURATION:PT1H
X-Robots-Tag:noindex
X-PUBLISHED-TTL:PT1H
BEGIN:VTIMEZONE
TZID:UTC
BEGIN:STANDARD
TZOFFSETFROM:+0000
TZOFFSETTO:+0000
TZNAME:UTC
DTSTART:20240101T000000
END:STANDARD
END:VTIMEZONE
BEGIN:VEVENT
DTSTART;VALUE=DATE:20250204
DTEND;VALUE=DATE:20250205
DTSTAMP:20260424T094729
CREATED:20240603T143511Z
LAST-MODIFIED:20240603T143511Z
UID:10000076-1738627200-1738713599@holyrosaryclinton.com
SUMMARY:3rd Quarter Midterm
DESCRIPTION:
URL:https://holyrosaryclinton.com/event/3rd-quarter-midterm/
ATTACH;FMTTYPE=image/jpeg:https://holyrosaryclinton.com/wp-content/uploads/2023/05/100-day-2.jpg
END:VEVENT
BEGIN:VEVENT
DTSTART;VALUE=DATE:20250214
DTEND;VALUE=DATE:20250215
DTSTAMP:20260424T094729
CREATED:20240603T143558Z
LAST-MODIFIED:20240612T133507Z
UID:10000077-1739491200-1739577599@holyrosaryclinton.com
SUMMARY:Local PD
DESCRIPTION:No School
URL:https://holyrosaryclinton.com/event/local-pd-4/
ATTACH;FMTTYPE=image/jpeg:https://holyrosaryclinton.com/wp-content/uploads/2024/02/IMG_0430-scaled.jpg
END:VEVENT
BEGIN:VEVENT
DTSTART;VALUE=DATE:20250217
DTEND;VALUE=DATE:20250218
DTSTAMP:20260424T094729
CREATED:20240603T143718Z
LAST-MODIFIED:20240603T143718Z
UID:10000078-1739750400-1739836799@holyrosaryclinton.com
SUMMARY:Presidents Day
DESCRIPTION:No School
URL:https://holyrosaryclinton.com/event/presidents-day/
ATTACH;FMTTYPE=image/jpeg:https://holyrosaryclinton.com/wp-content/uploads/2023/05/AdobeStock_188700553-scaled.jpeg
END:VEVENT
END:VCALENDAR