BEGIN:VCALENDAR
VERSION:2.0
PRODID:-//Holy Rosary Catholic School - ECPv6.15.20//NONSGML v1.0//EN
CALSCALE:GREGORIAN
METHOD:PUBLISH
X-WR-CALNAME:Holy Rosary Catholic School
X-ORIGINAL-URL:https://holyrosaryclinton.com
X-WR-CALDESC:Events for Holy Rosary Catholic School
REFRESH-INTERVAL;VALUE=DURATION:PT1H
X-Robots-Tag:noindex
X-PUBLISHED-TTL:PT1H
BEGIN:VTIMEZONE
TZID:UTC
BEGIN:STANDARD
TZOFFSETFROM:+0000
TZOFFSETTO:+0000
TZNAME:UTC
DTSTART:20240101T000000
END:STANDARD
END:VTIMEZONE
BEGIN:VEVENT
DTSTART;VALUE=DATE:20250417
DTEND;VALUE=DATE:20250418
DTSTAMP:20260424T064833
CREATED:20240603T144816Z
LAST-MODIFIED:20240603T144824Z
UID:10000086-1744848000-1744934399@holyrosaryclinton.com
SUMMARY:4th Quarter Midterm
DESCRIPTION:
URL:https://holyrosaryclinton.com/event/4th-quarter-midterm/
ATTACH;FMTTYPE=image/jpeg:https://holyrosaryclinton.com/wp-content/uploads/2023/04/slider-2.jpg
END:VEVENT
BEGIN:VEVENT
DTSTART;VALUE=DATE:20250418
DTEND;VALUE=DATE:20250419
DTSTAMP:20260424T064833
CREATED:20240603T144950Z
LAST-MODIFIED:20240603T145006Z
UID:10000087-1744934400-1745020799@holyrosaryclinton.com
SUMMARY:Good Friday
DESCRIPTION:No School
URL:https://holyrosaryclinton.com/event/good-friday/
ATTACH;FMTTYPE=image/jpeg:https://holyrosaryclinton.com/wp-content/uploads/2023/05/AdobeStock_332350483-scaled.jpeg
END:VEVENT
BEGIN:VEVENT
DTSTART;VALUE=DATE:20250421
DTEND;VALUE=DATE:20250422
DTSTAMP:20260424T064833
CREATED:20240603T145145Z
LAST-MODIFIED:20240603T145145Z
UID:10000088-1745193600-1745279999@holyrosaryclinton.com
SUMMARY:Easter Monday
DESCRIPTION:No School
URL:https://holyrosaryclinton.com/event/easter-monday/
ATTACH;FMTTYPE=image/jpeg:https://holyrosaryclinton.com/wp-content/uploads/2023/05/AdobeStock_326764509-scaled.jpeg
END:VEVENT
END:VCALENDAR