BEGIN:VCALENDAR
VERSION:2.0
PRODID:-//Holy Rosary Catholic School - ECPv6.15.20//NONSGML v1.0//EN
CALSCALE:GREGORIAN
METHOD:PUBLISH
X-WR-CALNAME:Holy Rosary Catholic School
X-ORIGINAL-URL:https://holyrosaryclinton.com
X-WR-CALDESC:Events for Holy Rosary Catholic School
REFRESH-INTERVAL;VALUE=DURATION:PT1H
X-Robots-Tag:noindex
X-PUBLISHED-TTL:PT1H
BEGIN:VTIMEZONE
TZID:UTC
BEGIN:STANDARD
TZOFFSETFROM:+0000
TZOFFSETTO:+0000
TZNAME:UTC
DTSTART:20240101T000000
END:STANDARD
END:VTIMEZONE
BEGIN:VEVENT
DTSTART;VALUE=DATE:20250516
DTEND;VALUE=DATE:20250517
DTSTAMP:20260424T052827
CREATED:20240603T145402Z
LAST-MODIFIED:20240603T145402Z
UID:10000089-1747353600-1747439999@holyrosaryclinton.com
SUMMARY:4th Quarter End
DESCRIPTION:Last Day of School for Students. Dismiss at 12:30
URL:https://holyrosaryclinton.com/event/4th-quarter-end/
ATTACH;FMTTYPE=image/png:https://holyrosaryclinton.com/wp-content/uploads/2023/05/pexels-pixabay-33044.png
END:VEVENT
BEGIN:VEVENT
DTSTART;VALUE=DATE:20250519
DTEND;VALUE=DATE:20250520
DTSTAMP:20260424T052827
CREATED:20240603T145716Z
LAST-MODIFIED:20240603T145803Z
UID:10000090-1747612800-1747699199@holyrosaryclinton.com
SUMMARY:Staff Retreat
DESCRIPTION:
URL:https://holyrosaryclinton.com/event/staff-retreat/
ATTACH;FMTTYPE=image/jpeg:https://holyrosaryclinton.com/wp-content/uploads/2023/05/340073955_156608620668160_9049820902796942545_n-e1685635885285.jpg
END:VEVENT
BEGIN:VEVENT
DTSTART;VALUE=DATE:20250520
DTEND;VALUE=DATE:20250521
DTSTAMP:20260424T052827
CREATED:20240603T145923Z
LAST-MODIFIED:20240612T133429Z
UID:10000091-1747699200-1747785599@holyrosaryclinton.com
SUMMARY:Local PD
DESCRIPTION:
URL:https://holyrosaryclinton.com/event/local-pd-5/
ATTACH;FMTTYPE=image/jpeg:https://holyrosaryclinton.com/wp-content/uploads/2024/02/IMG_0416-scaled.jpg
END:VEVENT
BEGIN:VEVENT
DTSTART;VALUE=DATE:20250521
DTEND;VALUE=DATE:20250524
DTSTAMP:20260424T052827
CREATED:20240603T150027Z
LAST-MODIFIED:20240603T150723Z
UID:10000092-1747785600-1748044799@holyrosaryclinton.com
SUMMARY:Staff Workdays
DESCRIPTION:
URL:https://holyrosaryclinton.com/event/staff-workdays-3/
ATTACH;FMTTYPE=image/jpeg:https://holyrosaryclinton.com/wp-content/uploads/2023/05/340899842_266315532399376_8746511892115754374_n.jpg
END:VEVENT
BEGIN:VEVENT
DTSTART;VALUE=DATE:20250526
DTEND;VALUE=DATE:20250527
DTSTAMP:20260424T052827
CREATED:20240603T151002Z
LAST-MODIFIED:20240603T151014Z
UID:10000093-1748217600-1748303999@holyrosaryclinton.com
SUMMARY:Memorial Day
DESCRIPTION:
URL:https://holyrosaryclinton.com/event/memorial-day-2/
ATTACH;FMTTYPE=image/jpeg:https://holyrosaryclinton.com/wp-content/uploads/2023/05/pexels-brett-sayles-1069000-scaled.jpg
END:VEVENT
BEGIN:VEVENT
DTSTART;VALUE=DATE:20250527
DTEND;VALUE=DATE:20250531
DTSTAMP:20260424T052827
CREATED:20240603T151105Z
LAST-MODIFIED:20240603T151105Z
UID:10000094-1748304000-1748649599@holyrosaryclinton.com
SUMMARY:Staff Workdays
DESCRIPTION:
URL:https://holyrosaryclinton.com/event/staff-workdays-4/
ATTACH;FMTTYPE=image/jpeg:https://holyrosaryclinton.com/wp-content/uploads/2023/05/340899842_266315532399376_8746511892115754374_n.jpg
END:VEVENT
END:VCALENDAR