BEGIN:VCALENDAR
VERSION:2.0
PRODID:-//Holy Rosary Catholic School - ECPv6.15.20//NONSGML v1.0//EN
CALSCALE:GREGORIAN
METHOD:PUBLISH
X-WR-CALNAME:Holy Rosary Catholic School
X-ORIGINAL-URL:https://holyrosaryclinton.com
X-WR-CALDESC:Events for Holy Rosary Catholic School
REFRESH-INTERVAL;VALUE=DURATION:PT1H
X-Robots-Tag:noindex
X-PUBLISHED-TTL:PT1H
BEGIN:VTIMEZONE
TZID:UTC
BEGIN:STANDARD
TZOFFSETFROM:+0000
TZOFFSETTO:+0000
TZNAME:UTC
DTSTART:20240101T000000
END:STANDARD
END:VTIMEZONE
BEGIN:VEVENT
DTSTART;VALUE=DATE:20250801
DTEND;VALUE=DATE:20250802
DTSTAMP:20260424T012915
CREATED:20250625T184514Z
LAST-MODIFIED:20250625T184551Z
UID:10000097-1754006400-1754092799@holyrosaryclinton.com
SUMMARY:New Teacher Orientation
DESCRIPTION:
URL:https://holyrosaryclinton.com/event/new-teacher-orientation/
END:VEVENT
BEGIN:VEVENT
DTSTART;VALUE=DATE:20250804
DTEND;VALUE=DATE:20250809
DTSTAMP:20260424T012915
CREATED:20250625T184806Z
LAST-MODIFIED:20250625T184806Z
UID:10000098-1754265600-1754697599@holyrosaryclinton.com
SUMMARY:Teacher Workdays
DESCRIPTION:
URL:https://holyrosaryclinton.com/event/teacher-workdays/2025-08-04/
END:VEVENT
BEGIN:VEVENT
DTSTART;VALUE=DATE:20250811
DTEND;VALUE=DATE:20250815
DTSTAMP:20260424T012915
CREATED:20250625T185131Z
LAST-MODIFIED:20250625T185131Z
UID:10000101-1754870400-1755215999@holyrosaryclinton.com
SUMMARY:Professional Development
DESCRIPTION:
URL:https://holyrosaryclinton.com/event/professional-development/2025-08-11/
END:VEVENT
BEGIN:VEVENT
DTSTART;VALUE=DATE:20250815
DTEND;VALUE=DATE:20250816
DTSTAMP:20260424T012915
CREATED:20250625T184806Z
LAST-MODIFIED:20250625T184806Z
UID:10000099-1755244800-1755277200@holyrosaryclinton.com
SUMMARY:Teacher Workdays
DESCRIPTION:
URL:https://holyrosaryclinton.com/event/teacher-workdays/2025-08-15/
END:VEVENT
BEGIN:VEVENT
DTSTART;VALUE=DATE:20250818
DTEND;VALUE=DATE:20250819
DTSTAMP:20260424T012915
CREATED:20250625T185131Z
LAST-MODIFIED:20250625T185131Z
UID:10000102-1755504000-1755536400@holyrosaryclinton.com
SUMMARY:Professional Development
DESCRIPTION:
URL:https://holyrosaryclinton.com/event/professional-development/2025-08-18/
END:VEVENT
BEGIN:VEVENT
DTSTART;VALUE=DATE:20250819
DTEND;VALUE=DATE:20250820
DTSTAMP:20260424T012915
CREATED:20250625T184806Z
LAST-MODIFIED:20250625T184806Z
UID:10000100-1755590400-1755622800@holyrosaryclinton.com
SUMMARY:Teacher Workdays
DESCRIPTION:
URL:https://holyrosaryclinton.com/event/teacher-workdays/2025-08-19/
END:VEVENT
BEGIN:VEVENT
DTSTART;VALUE=DATE:20250820
DTEND;VALUE=DATE:20250821
DTSTAMP:20260424T012915
CREATED:20250625T184340Z
LAST-MODIFIED:20250625T184340Z
UID:10000096-1755648000-1755734399@holyrosaryclinton.com
SUMMARY:First Day of School
DESCRIPTION:Time to start the new school year!
URL:https://holyrosaryclinton.com/event/first-day-of-school-3/
ATTACH;FMTTYPE=image/jpeg:https://holyrosaryclinton.com/wp-content/uploads/2023/05/pexels-rodnae-productions-8500408-scaled.jpg
END:VEVENT
END:VCALENDAR