BEGIN:VCALENDAR
VERSION:2.0
PRODID:-//Holy Rosary Catholic School - ECPv6.15.20//NONSGML v1.0//EN
CALSCALE:GREGORIAN
METHOD:PUBLISH
X-ORIGINAL-URL:https://holyrosaryclinton.com
X-WR-CALDESC:Events for Holy Rosary Catholic School
REFRESH-INTERVAL;VALUE=DURATION:PT1H
X-Robots-Tag:noindex
X-PUBLISHED-TTL:PT1H
BEGIN:VTIMEZONE
TZID:UTC
BEGIN:STANDARD
TZOFFSETFROM:+0000
TZOFFSETTO:+0000
TZNAME:UTC
DTSTART:20240101T000000
END:STANDARD
END:VTIMEZONE
BEGIN:VEVENT
DTSTART;VALUE=DATE:20250901
DTEND;VALUE=DATE:20250902
DTSTAMP:20260423T235555
CREATED:20250625T185555Z
LAST-MODIFIED:20250625T185555Z
UID:10000103-1756684800-1756771199@holyrosaryclinton.com
SUMMARY:No School - Labor Day
DESCRIPTION:
URL:https://holyrosaryclinton.com/event/no-school-labor-day/
END:VEVENT
BEGIN:VEVENT
DTSTART;VALUE=DATE:20250916
DTEND;VALUE=DATE:20250917
DTSTAMP:20260423T235555
CREATED:20250625T185706Z
LAST-MODIFIED:20250625T185706Z
UID:10000104-1757980800-1758067199@holyrosaryclinton.com
SUMMARY:Midterm
DESCRIPTION:
URL:https://holyrosaryclinton.com/event/midterm-6/
END:VEVENT
END:VCALENDAR