BEGIN:VCALENDAR
VERSION:2.0
PRODID:-//Holy Rosary Catholic School - ECPv6.15.20//NONSGML v1.0//EN
CALSCALE:GREGORIAN
METHOD:PUBLISH
X-ORIGINAL-URL:https://holyrosaryclinton.com
X-WR-CALDESC:Events for Holy Rosary Catholic School
REFRESH-INTERVAL;VALUE=DURATION:PT1H
X-Robots-Tag:noindex
X-PUBLISHED-TTL:PT1H
BEGIN:VTIMEZONE
TZID:UTC
BEGIN:STANDARD
TZOFFSETFROM:+0000
TZOFFSETTO:+0000
TZNAME:UTC
DTSTART:20240101T000000
END:STANDARD
END:VTIMEZONE
BEGIN:VEVENT
DTSTART;VALUE=DATE:20251112
DTEND;VALUE=DATE:20251113
DTSTAMP:20260423T211333
CREATED:20250625T190237Z
LAST-MODIFIED:20250625T190237Z
UID:10000110-1762905600-1762991999@holyrosaryclinton.com
SUMMARY:Midterm
DESCRIPTION:
URL:https://holyrosaryclinton.com/event/midterm-7/
END:VEVENT
BEGIN:VEVENT
DTSTART;VALUE=DATE:20251124
DTEND;VALUE=DATE:20251129
DTSTAMP:20260423T211333
CREATED:20250625T190342Z
LAST-MODIFIED:20250625T190342Z
UID:10000111-1763942400-1764374399@holyrosaryclinton.com
SUMMARY:Thanksgiving Break
DESCRIPTION:
URL:https://holyrosaryclinton.com/event/thanksgiving-break-2/
END:VEVENT
END:VCALENDAR