BEGIN:VCALENDAR
VERSION:2.0
PRODID:-//Holy Rosary Catholic School - ECPv6.15.20//NONSGML v1.0//EN
CALSCALE:GREGORIAN
METHOD:PUBLISH
X-ORIGINAL-URL:https://holyrosaryclinton.com
X-WR-CALDESC:Events for Holy Rosary Catholic School
REFRESH-INTERVAL;VALUE=DURATION:PT1H
X-Robots-Tag:noindex
X-PUBLISHED-TTL:PT1H
BEGIN:VTIMEZONE
TZID:UTC
BEGIN:STANDARD
TZOFFSETFROM:+0000
TZOFFSETTO:+0000
TZNAME:UTC
DTSTART:20250101T000000
END:STANDARD
END:VTIMEZONE
BEGIN:VEVENT
DTSTART;VALUE=DATE:20260306
DTEND;VALUE=DATE:20260307
DTSTAMP:20260423T154415
CREATED:20250625T191241Z
LAST-MODIFIED:20250625T191241Z
UID:10000122-1772755200-1772841599@holyrosaryclinton.com
SUMMARY:End of Quarter
DESCRIPTION:
URL:https://holyrosaryclinton.com/event/end-of-quarter-3/
END:VEVENT
BEGIN:VEVENT
DTSTART;VALUE=DATE:20260311
DTEND;VALUE=DATE:20260312
DTSTAMP:20260423T154415
CREATED:20250625T191323Z
LAST-MODIFIED:20250625T191323Z
UID:10000123-1773187200-1773273599@holyrosaryclinton.com
SUMMARY:Early Dismissal - Teacher Workday
DESCRIPTION:
URL:https://holyrosaryclinton.com/event/early-dismissal-teacher-workday-2/
END:VEVENT
BEGIN:VEVENT
DTSTART;VALUE=DATE:20260312
DTEND;VALUE=DATE:20260313
DTSTAMP:20260423T154415
CREATED:20250625T191400Z
LAST-MODIFIED:20250625T191400Z
UID:10000124-1773273600-1773359999@holyrosaryclinton.com
SUMMARY:Parent Teacher Conf.
DESCRIPTION:
URL:https://holyrosaryclinton.com/event/parent-teacher-conf/
END:VEVENT
BEGIN:VEVENT
DTSTART;VALUE=DATE:20260313
DTEND;VALUE=DATE:20260314
DTSTAMP:20260423T154415
CREATED:20250625T191435Z
LAST-MODIFIED:20250625T191435Z
UID:10000125-1773360000-1773446399@holyrosaryclinton.com
SUMMARY:Diocesan PD
DESCRIPTION:
URL:https://holyrosaryclinton.com/event/diocesan-pd/
END:VEVENT
BEGIN:VEVENT
DTSTART;VALUE=DATE:20260316
DTEND;VALUE=DATE:20260321
DTSTAMP:20260423T154415
CREATED:20250625T191515Z
LAST-MODIFIED:20250625T191515Z
UID:10000126-1773619200-1774051199@holyrosaryclinton.com
SUMMARY:Spring Break
DESCRIPTION:
URL:https://holyrosaryclinton.com/event/spring-break-3/
END:VEVENT
END:VCALENDAR