BEGIN:VCALENDAR
VERSION:2.0
PRODID:-//Holy Rosary Catholic School - ECPv6.15.20//NONSGML v1.0//EN
CALSCALE:GREGORIAN
METHOD:PUBLISH
X-ORIGINAL-URL:https://holyrosaryclinton.com
X-WR-CALDESC:Events for Holy Rosary Catholic School
REFRESH-INTERVAL;VALUE=DURATION:PT1H
X-Robots-Tag:noindex
X-PUBLISHED-TTL:PT1H
BEGIN:VTIMEZONE
TZID:UTC
BEGIN:STANDARD
TZOFFSETFROM:+0000
TZOFFSETTO:+0000
TZNAME:UTC
DTSTART:20250101T000000
END:STANDARD
END:VTIMEZONE
BEGIN:VEVENT
DTSTART;VALUE=DATE:20260508
DTEND;VALUE=DATE:20260509
DTSTAMP:20260423T143327
CREATED:20250625T191848Z
LAST-MODIFIED:20250625T191848Z
UID:10000131-1778198400-1778284799@holyrosaryclinton.com
SUMMARY:Last Day of School (8th Grade)
DESCRIPTION:
URL:https://holyrosaryclinton.com/event/last-day-of-school-8th-grade/
END:VEVENT
BEGIN:VEVENT
DTSTART;VALUE=DATE:20260509
DTEND;VALUE=DATE:20260510
DTSTAMP:20260423T143327
CREATED:20250625T191920Z
LAST-MODIFIED:20250625T191920Z
UID:10000132-1778284800-1778371199@holyrosaryclinton.com
SUMMARY:8th Grade Graduation
DESCRIPTION:
URL:https://holyrosaryclinton.com/event/8th-grade-graduation/
END:VEVENT
BEGIN:VEVENT
DTSTART;VALUE=DATE:20260514
DTEND;VALUE=DATE:20260515
DTSTAMP:20260423T143327
CREATED:20250625T192017Z
LAST-MODIFIED:20250625T192033Z
UID:10000133-1778716800-1778803199@holyrosaryclinton.com
SUMMARY:Early Dismissal - Last Day of School (Pre-K - 7)
DESCRIPTION:
URL:https://holyrosaryclinton.com/event/early-dismissal-last-day-of-school-pre-k-7/
END:VEVENT
BEGIN:VEVENT
DTSTART;VALUE=DATE:20260515
DTEND;VALUE=DATE:20260516
DTSTAMP:20260423T143327
CREATED:20250625T192138Z
LAST-MODIFIED:20250625T192138Z
UID:10000134-1778832000-1778864400@holyrosaryclinton.com
SUMMARY:Teacher Workdays
DESCRIPTION:
URL:https://holyrosaryclinton.com/event/teacher-workdays-2/2026-05-15/
END:VEVENT
BEGIN:VEVENT
DTSTART;VALUE=DATE:20260518
DTEND;VALUE=DATE:20260523
DTSTAMP:20260423T143327
CREATED:20250625T192138Z
LAST-MODIFIED:20250625T192138Z
UID:10000135-1779062400-1779494399@holyrosaryclinton.com
SUMMARY:Teacher Workdays
DESCRIPTION:
URL:https://holyrosaryclinton.com/event/teacher-workdays-2/2026-05-18/
END:VEVENT
END:VCALENDAR